BEGIN:VCALENDAR
VERSION:2.0
PRODID:-//Ford Model A Restorers Club - ECPv6.15.18//NONSGML v1.0//EN
CALSCALE:GREGORIAN
METHOD:PUBLISH
X-WR-CALNAME:Ford Model A Restorers Club
X-ORIGINAL-URL:https://modelarestorersclub.org
X-WR-CALDESC:Events for Ford Model A Restorers Club
REFRESH-INTERVAL;VALUE=DURATION:PT1H
X-Robots-Tag:noindex
X-PUBLISHED-TTL:PT1H
BEGIN:VTIMEZONE
TZID:America/Los_Angeles
BEGIN:DAYLIGHT
TZOFFSETFROM:-0800
TZOFFSETTO:-0700
TZNAME:PDT
DTSTART:20250309T100000
END:DAYLIGHT
BEGIN:STANDARD
TZOFFSETFROM:-0700
TZOFFSETTO:-0800
TZNAME:PST
DTSTART:20251102T090000
END:STANDARD
BEGIN:DAYLIGHT
TZOFFSETFROM:-0800
TZOFFSETTO:-0700
TZNAME:PDT
DTSTART:20260308T100000
END:DAYLIGHT
BEGIN:STANDARD
TZOFFSETFROM:-0700
TZOFFSETTO:-0800
TZNAME:PST
DTSTART:20261101T090000
END:STANDARD
BEGIN:DAYLIGHT
TZOFFSETFROM:-0800
TZOFFSETTO:-0700
TZNAME:PDT
DTSTART:20270314T100000
END:DAYLIGHT
BEGIN:STANDARD
TZOFFSETFROM:-0700
TZOFFSETTO:-0800
TZNAME:PST
DTSTART:20271107T090000
END:STANDARD
END:VTIMEZONE
BEGIN:VEVENT
DTSTART;TZID=America/Los_Angeles:20260110T080000
DTEND;TZID=America/Los_Angeles:20260110T130000
DTSTAMP:20260421T154832
CREATED:20250920T171933Z
LAST-MODIFIED:20250920T210403Z
UID:10000002-1768032000-1768050000@modelarestorersclub.org
SUMMARY:41st Annual Winter Swap Meet
DESCRIPTION:Hosted by The Falls City Region Model A Ford Club. \nSpecializing in MODEL “A” FORD Parts! \nHeld at Paroquet Springs Conference Center (10 miles south of Louisville) \nAdmission $5.00 children under 12 free. 10 X 12 Vendor Spaces $15.00 \nSet up starts at 6am; Doors Open at 8 A.M. to approximately 1:00pm \nRegistration Contact: Emeric Howell 8800 Gentry Lane Louisville\, Ky. 40291 or use e-mail/phone information below. \nPLEASE check our website www.kymodela.org for the latest info or changes.
URL:https://modelarestorersclub.org/event/41st-annual-winter-swap-meet/
LOCATION:Paroquet Springs Conference Center\, 395 Paroquet Springs Drive\, Shepherdsville\, KY\, 40165\, United States
CATEGORIES:Swap Meets
ATTACH;FMTTYPE=image/jpeg:https://modelarestorersclub.org/wp-content/uploads/2025/09/ky-1.jpg
ORGANIZER;CN="Emeric Howell":MAILTO:emerichowell@gmail.com
END:VEVENT
END:VCALENDAR