BEGIN:VCALENDAR
VERSION:2.0
PRODID:-//Ford Model A Restorers Club - ECPv6.15.18//NONSGML v1.0//EN
CALSCALE:GREGORIAN
METHOD:PUBLISH
X-WR-CALNAME:Ford Model A Restorers Club
X-ORIGINAL-URL:https://modelarestorersclub.org
X-WR-CALDESC:Events for Ford Model A Restorers Club
REFRESH-INTERVAL;VALUE=DURATION:PT1H
X-Robots-Tag:noindex
X-PUBLISHED-TTL:PT1H
BEGIN:VTIMEZONE
TZID:America/Los_Angeles
BEGIN:DAYLIGHT
TZOFFSETFROM:-0800
TZOFFSETTO:-0700
TZNAME:PDT
DTSTART:20250309T100000
END:DAYLIGHT
BEGIN:STANDARD
TZOFFSETFROM:-0700
TZOFFSETTO:-0800
TZNAME:PST
DTSTART:20251102T090000
END:STANDARD
BEGIN:DAYLIGHT
TZOFFSETFROM:-0800
TZOFFSETTO:-0700
TZNAME:PDT
DTSTART:20260308T100000
END:DAYLIGHT
BEGIN:STANDARD
TZOFFSETFROM:-0700
TZOFFSETTO:-0800
TZNAME:PST
DTSTART:20261101T090000
END:STANDARD
BEGIN:DAYLIGHT
TZOFFSETFROM:-0800
TZOFFSETTO:-0700
TZNAME:PDT
DTSTART:20270314T100000
END:DAYLIGHT
BEGIN:STANDARD
TZOFFSETFROM:-0700
TZOFFSETTO:-0800
TZNAME:PST
DTSTART:20271107T090000
END:STANDARD
END:VTIMEZONE
BEGIN:VTIMEZONE
TZID:America/Chicago
BEGIN:DAYLIGHT
TZOFFSETFROM:-0600
TZOFFSETTO:-0500
TZNAME:CDT
DTSTART:20250309T080000
END:DAYLIGHT
BEGIN:STANDARD
TZOFFSETFROM:-0500
TZOFFSETTO:-0600
TZNAME:CST
DTSTART:20251102T070000
END:STANDARD
BEGIN:DAYLIGHT
TZOFFSETFROM:-0600
TZOFFSETTO:-0500
TZNAME:CDT
DTSTART:20260308T080000
END:DAYLIGHT
BEGIN:STANDARD
TZOFFSETFROM:-0500
TZOFFSETTO:-0600
TZNAME:CST
DTSTART:20261101T070000
END:STANDARD
BEGIN:DAYLIGHT
TZOFFSETFROM:-0600
TZOFFSETTO:-0500
TZNAME:CDT
DTSTART:20270314T080000
END:DAYLIGHT
BEGIN:STANDARD
TZOFFSETFROM:-0500
TZOFFSETTO:-0600
TZNAME:CST
DTSTART:20271107T070000
END:STANDARD
END:VTIMEZONE
BEGIN:VEVENT
DTSTART;TZID=America/Los_Angeles:20260322T080000
DTEND;TZID=America/Los_Angeles:20260322T140000
DTSTAMP:20260421T070651
CREATED:20251211T155526Z
LAST-MODIFIED:20251211T155546Z
UID:10000012-1774166400-1774188000@modelarestorersclub.org
SUMMARY:East Side A’s 54th Annual Swap Meet - Shelby Twp. / Utica\, MI
DESCRIPTION:Hosted by the East Side A’s\nNEW LOCATION FOR SWAP MEET –\nPackard Proving Grounds Historic Site\n49965 Van Dyke Ave. Shelby Township 48317\n(1/4 mile south of 23-mile road) \nSponsored by Russ Milne Ford. Doors open to the public @ 8:00 a.m. Open to all makes and types of cars / car parts / auto collectibles / supplies. Indoor facility / food available / 50-50 raffle\, tables $ 30.00/ ea. Admission $ 5.00 Vendors to remain set-up until 2:00 p.m. Call Lou Ironside (810) 798-8803
URL:https://modelarestorersclub.org/event/shelby-twp-utica-east-side-as-54th-annual-swap-meet/
LOCATION:Packard Proving Grounds Historic Site\, 49965 Van Dyke Ave\, Shelby Township\, MI\, 48317\, United States
END:VEVENT
BEGIN:VEVENT
DTSTART;VALUE=DATE:20260326
DTEND;VALUE=DATE:20260329
DTSTAMP:20260421T070651
CREATED:20251229T160704Z
LAST-MODIFIED:20260126T162953Z
UID:10000014-1774483200-1774742399@modelarestorersclub.org
SUMMARY:Duncan Pre War Swap Meet - Duncan\, OK
DESCRIPTION:The Chickasha Pre War Swap Meet has moved to Duncan\, Oklahoma about 40 miles south of Chickasha. This has been the preeminent Pre War Swap meet here in the central plains for over 40 years. \nThe Duncan Swap Meet is conveniently located in the heart of the US in southwest Oklahoma. There is a strong muscle car and antique car tradition in the area\, with many car clubs and enthusiasts. \n​Oklahomans are “can-do” people – they find old cars and parts to either rebuild or take to swap meets for others to complete a project. The moderate climate and minimal use of road salt help local vehicles stay rust-free. \n​The Duncan Swap Meet is held at the Stephens County Fairgrounds. This wonderful facility was recently expanded and has 140\,000 plus square feet under roof and 42 acres of grounds. Sixty-five RV hook-ups are available on the grounds\, with a dump station included. Many flush toilets are located in the fairground’s buildings. Showers are also available. The fair staff works hard to keep the facility clean and neat. They are very experienced with large crowds for conventions and shows.
URL:https://modelarestorersclub.org/event/duncan-pre-war-swap-meet/
LOCATION:Stephens County Fairgrounds\, Duncan\, OK>\, 1009 Oakview Dr.\, Duncan\, OK\, 73533\, United States
CATEGORIES:Swap Meets
ATTACH;FMTTYPE=image/jpeg:https://modelarestorersclub.org/wp-content/uploads/2025/12/duncan.jpg
END:VEVENT
END:VCALENDAR