BEGIN:VCALENDAR
VERSION:2.0
PRODID:-//Ford Model A Restorers Club - ECPv6.15.18//NONSGML v1.0//EN
CALSCALE:GREGORIAN
METHOD:PUBLISH
X-WR-CALNAME:Ford Model A Restorers Club
X-ORIGINAL-URL:https://modelarestorersclub.org
X-WR-CALDESC:Events for Ford Model A Restorers Club
REFRESH-INTERVAL;VALUE=DURATION:PT1H
X-Robots-Tag:noindex
X-PUBLISHED-TTL:PT1H
BEGIN:VTIMEZONE
TZID:America/Detroit
BEGIN:DAYLIGHT
TZOFFSETFROM:-0500
TZOFFSETTO:-0400
TZNAME:EDT
DTSTART:20260308T070000
END:DAYLIGHT
BEGIN:STANDARD
TZOFFSETFROM:-0400
TZOFFSETTO:-0500
TZNAME:EST
DTSTART:20261101T060000
END:STANDARD
BEGIN:DAYLIGHT
TZOFFSETFROM:-0500
TZOFFSETTO:-0400
TZNAME:EDT
DTSTART:20270314T070000
END:DAYLIGHT
BEGIN:STANDARD
TZOFFSETFROM:-0400
TZOFFSETTO:-0500
TZNAME:EST
DTSTART:20271107T060000
END:STANDARD
BEGIN:DAYLIGHT
TZOFFSETFROM:-0500
TZOFFSETTO:-0400
TZNAME:EDT
DTSTART:20280312T070000
END:DAYLIGHT
BEGIN:STANDARD
TZOFFSETFROM:-0400
TZOFFSETTO:-0500
TZNAME:EST
DTSTART:20281105T060000
END:STANDARD
END:VTIMEZONE
BEGIN:VEVENT
DTSTART;TZID=America/Detroit:20270314T080000
DTEND;TZID=America/Detroit:20270314T150000
DTSTAMP:20260419T153340
CREATED:20260323T171916Z
LAST-MODIFIED:20260323T171916Z
UID:10000040-1805011200-1805036400@modelarestorersclub.org
SUMMARY:44th Annual Swap Meet
DESCRIPTION:Car parts for all makes and models\, antiques and flea Market. Indoors. Food available on site
URL:https://modelarestorersclub.org/event/44th-annual-swap-meet/
LOCATION:McDONALD GMC/CADILLAC 5155 STATE ST. – SAGINAW\, MI\, 5155 State St\, Saginaw\, MI\, 48603\, United States
CATEGORIES:Regional Events
ATTACH;FMTTYPE=image/jpeg:https://modelarestorersclub.org/wp-content/uploads/2026/03/1774201353910-c29f4ae3-2461-4591-a61f-c310b10dd64e_1.jpg
ORGANIZER;CN="NORA PETRICHES  SCRIPT %E2%80%9CA%E2%80%9D CLUB":MAILTO:stephen@theburtons.us
END:VEVENT
END:VCALENDAR