BEGIN:VCALENDAR
VERSION:2.0
PRODID:-//Ford Model A Restorers Club - ECPv6.15.18//NONSGML v1.0//EN
CALSCALE:GREGORIAN
METHOD:PUBLISH
X-WR-CALNAME:Ford Model A Restorers Club
X-ORIGINAL-URL:https://modelarestorersclub.org
X-WR-CALDESC:Events for Ford Model A Restorers Club
REFRESH-INTERVAL;VALUE=DURATION:PT1H
X-Robots-Tag:noindex
X-PUBLISHED-TTL:PT1H
BEGIN:VTIMEZONE
TZID:America/Los_Angeles
BEGIN:DAYLIGHT
TZOFFSETFROM:-0800
TZOFFSETTO:-0700
TZNAME:PDT
DTSTART:20240310T100000
END:DAYLIGHT
BEGIN:STANDARD
TZOFFSETFROM:-0700
TZOFFSETTO:-0800
TZNAME:PST
DTSTART:20241103T090000
END:STANDARD
BEGIN:DAYLIGHT
TZOFFSETFROM:-0800
TZOFFSETTO:-0700
TZNAME:PDT
DTSTART:20250309T100000
END:DAYLIGHT
BEGIN:STANDARD
TZOFFSETFROM:-0700
TZOFFSETTO:-0800
TZNAME:PST
DTSTART:20251102T090000
END:STANDARD
BEGIN:DAYLIGHT
TZOFFSETFROM:-0800
TZOFFSETTO:-0700
TZNAME:PDT
DTSTART:20260308T100000
END:DAYLIGHT
BEGIN:STANDARD
TZOFFSETFROM:-0700
TZOFFSETTO:-0800
TZNAME:PST
DTSTART:20261101T090000
END:STANDARD
BEGIN:DAYLIGHT
TZOFFSETFROM:-0800
TZOFFSETTO:-0700
TZNAME:PDT
DTSTART:20270314T100000
END:DAYLIGHT
BEGIN:STANDARD
TZOFFSETFROM:-0700
TZOFFSETTO:-0800
TZNAME:PST
DTSTART:20271107T090000
END:STANDARD
END:VTIMEZONE
BEGIN:VTIMEZONE
TZID:America/Chicago
BEGIN:DAYLIGHT
TZOFFSETFROM:-0600
TZOFFSETTO:-0500
TZNAME:CDT
DTSTART:20250309T080000
END:DAYLIGHT
BEGIN:STANDARD
TZOFFSETFROM:-0500
TZOFFSETTO:-0600
TZNAME:CST
DTSTART:20251102T070000
END:STANDARD
BEGIN:DAYLIGHT
TZOFFSETFROM:-0600
TZOFFSETTO:-0500
TZNAME:CDT
DTSTART:20260308T080000
END:DAYLIGHT
BEGIN:STANDARD
TZOFFSETFROM:-0500
TZOFFSETTO:-0600
TZNAME:CST
DTSTART:20261101T070000
END:STANDARD
BEGIN:DAYLIGHT
TZOFFSETFROM:-0600
TZOFFSETTO:-0500
TZNAME:CDT
DTSTART:20270314T080000
END:DAYLIGHT
BEGIN:STANDARD
TZOFFSETFROM:-0500
TZOFFSETTO:-0600
TZNAME:CST
DTSTART:20271107T070000
END:STANDARD
END:VTIMEZONE
BEGIN:VTIMEZONE
TZID:America/Detroit
BEGIN:DAYLIGHT
TZOFFSETFROM:-0500
TZOFFSETTO:-0400
TZNAME:EDT
DTSTART:20250309T070000
END:DAYLIGHT
BEGIN:STANDARD
TZOFFSETFROM:-0400
TZOFFSETTO:-0500
TZNAME:EST
DTSTART:20251102T060000
END:STANDARD
BEGIN:DAYLIGHT
TZOFFSETFROM:-0500
TZOFFSETTO:-0400
TZNAME:EDT
DTSTART:20260308T070000
END:DAYLIGHT
BEGIN:STANDARD
TZOFFSETFROM:-0400
TZOFFSETTO:-0500
TZNAME:EST
DTSTART:20261101T060000
END:STANDARD
BEGIN:DAYLIGHT
TZOFFSETFROM:-0500
TZOFFSETTO:-0400
TZNAME:EDT
DTSTART:20270314T070000
END:DAYLIGHT
BEGIN:STANDARD
TZOFFSETFROM:-0400
TZOFFSETTO:-0500
TZNAME:EST
DTSTART:20271107T060000
END:STANDARD
END:VTIMEZONE
BEGIN:VEVENT
DTSTART;TZID=America/Los_Angeles:20260417T080000
DTEND;TZID=America/Los_Angeles:20260418T150000
DTSTAMP:20260419T153605
CREATED:20251026T152926Z
LAST-MODIFIED:20251026T153851Z
UID:10000005-1776412800-1776524400@modelarestorersclub.org
SUMMARY:All Model A Parts Swap Meet
DESCRIPTION:Hosted by The Old 96 District Model A Club\n\nTo be held at 314 Old Mount Moriah Road (on Rt.221 Between 25 and Rt. 225) Greenwood SC 29646 \nFriday 8:00 AM-5:00 PM Saturday 8:00 AM-2:00 PM Lunch is available both days\, Door Prizes & 50/50 Drawing! \nFees: \nAdmission $2.00 Per Adult\nCar Corral $10.00 Both Days\nVendors $30.00 (one or two days) \nContact: Sue Reynolds – swreynolds1946@gmail.com\, Warren Reynolds 864-980-7937 or Jim Cothran 864-981-2296
URL:https://modelarestorersclub.org/event/all-model-a-parts-swap-meet/
LOCATION:314 Old Mount Moriah Road\, 314 Old Mt Moriah Rd\, Greenwood\, SC\, 29646\, United States
CATEGORIES:Swap Meets
ATTACH;FMTTYPE=image/jpeg:https://modelarestorersclub.org/wp-content/uploads/2025/10/old_96_Ford.jpg
ORGANIZER;CN="Sue Reynolds":MAILTO:swreynolds1946@gmail.com
END:VEVENT
BEGIN:VEVENT
DTSTART;TZID=America/Chicago:20260414T080000
DTEND;TZID=America/Chicago:20260414T170000
DTSTAMP:20260419T153605
CREATED:20260205T171610Z
LAST-MODIFIED:20260205T172142Z
UID:10000022-1776153600-1776186000@modelarestorersclub.org
SUMMARY:Model A/AA Mail Truck Semi-Annual Virtual Convention
DESCRIPTION:Apr 14\, 2026 –Model A/AA Mail Truck Semi-Annual Virtual Convention \nPostal A’s will host our semi-annual Model A/AA Mail Truck Virtual Convention\, Tuesday\, Apr 14\, 2026\, 8:00 pm EDT (5:00 pm PDT). \nJoin via Zoom at:  https://us06web.zoom.us/j/89128507669. \nWe’ll share restoration progress\, hear some Mail Truck stories\, and discuss how we can help each other. \nChair:  Charles Hilton\, Postal As President.  Contact:  Roger Davis\, 2169 E 900 N Spanish Fork\, UT  84660\, 801-505-8727\, rldavis1929@aol.com
URL:https://modelarestorersclub.org/event/model-a-aa-mail-truck-semi-annual-virtual-convention/
LOCATION:KY
CATEGORIES:Regional Events
END:VEVENT
BEGIN:VEVENT
DTSTART;VALUE=DATE:20260326
DTEND;VALUE=DATE:20260329
DTSTAMP:20260419T153605
CREATED:20251229T160704Z
LAST-MODIFIED:20260126T162953Z
UID:10000014-1774483200-1774742399@modelarestorersclub.org
SUMMARY:Duncan Pre War Swap Meet - Duncan\, OK
DESCRIPTION:The Chickasha Pre War Swap Meet has moved to Duncan\, Oklahoma about 40 miles south of Chickasha. This has been the preeminent Pre War Swap meet here in the central plains for over 40 years. \nThe Duncan Swap Meet is conveniently located in the heart of the US in southwest Oklahoma. There is a strong muscle car and antique car tradition in the area\, with many car clubs and enthusiasts. \n​Oklahomans are “can-do” people – they find old cars and parts to either rebuild or take to swap meets for others to complete a project. The moderate climate and minimal use of road salt help local vehicles stay rust-free. \n​The Duncan Swap Meet is held at the Stephens County Fairgrounds. This wonderful facility was recently expanded and has 140\,000 plus square feet under roof and 42 acres of grounds. Sixty-five RV hook-ups are available on the grounds\, with a dump station included. Many flush toilets are located in the fairground’s buildings. Showers are also available. The fair staff works hard to keep the facility clean and neat. They are very experienced with large crowds for conventions and shows.
URL:https://modelarestorersclub.org/event/duncan-pre-war-swap-meet/
LOCATION:Stephens County Fairgrounds\, Duncan\, OK>\, 1009 Oakview Dr.\, Duncan\, OK\, 73533\, United States
CATEGORIES:Swap Meets
ATTACH;FMTTYPE=image/jpeg:https://modelarestorersclub.org/wp-content/uploads/2025/12/duncan.jpg
END:VEVENT
BEGIN:VEVENT
DTSTART;TZID=America/Los_Angeles:20260322T080000
DTEND;TZID=America/Los_Angeles:20260322T140000
DTSTAMP:20260419T153605
CREATED:20251211T155526Z
LAST-MODIFIED:20251211T155546Z
UID:10000012-1774166400-1774188000@modelarestorersclub.org
SUMMARY:East Side A’s 54th Annual Swap Meet - Shelby Twp. / Utica\, MI
DESCRIPTION:Hosted by the East Side A’s\nNEW LOCATION FOR SWAP MEET –\nPackard Proving Grounds Historic Site\n49965 Van Dyke Ave. Shelby Township 48317\n(1/4 mile south of 23-mile road) \nSponsored by Russ Milne Ford. Doors open to the public @ 8:00 a.m. Open to all makes and types of cars / car parts / auto collectibles / supplies. Indoor facility / food available / 50-50 raffle\, tables $ 30.00/ ea. Admission $ 5.00 Vendors to remain set-up until 2:00 p.m. Call Lou Ironside (810) 798-8803
URL:https://modelarestorersclub.org/event/shelby-twp-utica-east-side-as-54th-annual-swap-meet/
LOCATION:Packard Proving Grounds Historic Site\, 49965 Van Dyke Ave\, Shelby Township\, MI\, 48317\, United States
END:VEVENT
BEGIN:VEVENT
DTSTART;TZID=America/Chicago:20260201T090000
DTEND;TZID=America/Chicago:20260201T153000
DTSTAMP:20260419T153605
CREATED:20260116T165316Z
LAST-MODIFIED:20260116T171346Z
UID:10000017-1769936400-1769959800@modelarestorersclub.org
SUMMARY:Snow Buster Automotive Swap Meet
DESCRIPTION:24th Annual Snowbuster  Automotive Swap Meet\, Hosted by the Model A Restorers Club Niagara Frontier Region
URL:https://modelarestorersclub.org/event/snow-buster-automotive-swap-meet/
LOCATION:Eric County Fairgrounds\, 5820 South Park Ave.\, Hamburg\, NY\, United States
CATEGORIES:Swap Meets
ATTACH;FMTTYPE=image/jpeg:https://modelarestorersclub.org/wp-content/uploads/2026/01/Snow_Buster_Swap_Meet_2026_2_Page_1.jpg
ORGANIZER;CN="Model A Restorers Club Niagara Frontier Region":MAILTO:snowbusterswapmeet@gmail.com
END:VEVENT
BEGIN:VEVENT
DTSTART;TZID=America/Detroit:20260125T070000
DTEND;TZID=America/Detroit:20260125T130000
DTSTAMP:20260419T153605
CREATED:20260109T183632Z
LAST-MODIFIED:20260109T183632Z
UID:10000015-1769324400-1769346000@modelarestorersclub.org
SUMMARY:43rd ANNUAL SWAP MEET  -- SAGINAW\, MI
DESCRIPTION:SWAP MEET \nCAR PARTS FOR ALL MAKES & MODELS\, ANTIQUES & FLEA MARKET
URL:https://modelarestorersclub.org/event/43rd-annual-swap-meet-saginaw-mi/
LOCATION:McDONALD GMC/CADILLAC 5155 STATE ST. – SAGINAW\, MI\, 5155 State St\, Saginaw\, MI\, 48603\, United States
CATEGORIES:Swap Meets
ATTACH;FMTTYPE=image/jpeg:https://modelarestorersclub.org/wp-content/uploads/2026/01/swap-meet-1.jpg
ORGANIZER;CN="NORA PETRICHES  SCRIPT %E2%80%9CA%E2%80%9D CLUB":MAILTO:stephen@theburtons.us
END:VEVENT
BEGIN:VEVENT
DTSTART;TZID=America/Los_Angeles:20260110T080000
DTEND;TZID=America/Los_Angeles:20260110T130000
DTSTAMP:20260419T153605
CREATED:20250920T171933Z
LAST-MODIFIED:20250920T210403Z
UID:10000002-1768032000-1768050000@modelarestorersclub.org
SUMMARY:41st Annual Winter Swap Meet
DESCRIPTION:Hosted by The Falls City Region Model A Ford Club. \nSpecializing in MODEL “A” FORD Parts! \nHeld at Paroquet Springs Conference Center (10 miles south of Louisville) \nAdmission $5.00 children under 12 free. 10 X 12 Vendor Spaces $15.00 \nSet up starts at 6am; Doors Open at 8 A.M. to approximately 1:00pm \nRegistration Contact: Emeric Howell 8800 Gentry Lane Louisville\, Ky. 40291 or use e-mail/phone information below. \nPLEASE check our website www.kymodela.org for the latest info or changes.
URL:https://modelarestorersclub.org/event/41st-annual-winter-swap-meet/
LOCATION:Paroquet Springs Conference Center\, 395 Paroquet Springs Drive\, Shepherdsville\, KY\, 40165\, United States
CATEGORIES:Swap Meets
ATTACH;FMTTYPE=image/jpeg:https://modelarestorersclub.org/wp-content/uploads/2025/09/ky-1.jpg
ORGANIZER;CN="Emeric Howell":MAILTO:emerichowell@gmail.com
END:VEVENT
BEGIN:VEVENT
DTSTART;TZID=America/Los_Angeles:20251128T080000
DTEND;TZID=America/Los_Angeles:20251128T170000
DTSTAMP:20260419T153605
CREATED:20251128T152442Z
LAST-MODIFIED:20251128T152442Z
UID:10000011-1764316800-1764349200@modelarestorersclub.org
SUMMARY:2026 MARC National Tour
DESCRIPTION:The 2026 National Tour
URL:https://modelarestorersclub.org/event/2026-marc-national-tour/
LOCATION:KY
END:VEVENT
BEGIN:VEVENT
DTSTART;TZID=America/Los_Angeles:20251102T080000
DTEND;TZID=America/Los_Angeles:20251102T130000
DTSTAMP:20260419T153605
CREATED:20250917T191847Z
LAST-MODIFIED:20251026T160546Z
UID:10000001-1762070400-1762088400@modelarestorersclub.org
SUMMARY:Dayton Buckeye Model A Ford Club Swap Meet
DESCRIPTION:Sponsored by Dayton Buckeye Model A Ford Club\nDirections: 17 miles north of I-75 from I-70. Exit 78—go 3 miles south on Co Rd 25A to the Fairgrounds. \nAntique & Classic Cars and Car Parts. \nAll Makes\, Models and Parts Welcome.\nConcession Stand\, 50/50\, & Car Corral. \nSunday Vendor setup from 6am to 8am \nFor Swap Meet spaces contact Tim Staker 4759 Whitehead Ct\, West Alexandria\, OH\, 45381. (937) 689-7222. \n10 x 10 Inside spaces $20 each\,\nOutside spaces $20 each. \nMake check payable to: \nDayton Buckeye Model A Ford Club\nPO Box 322\, Englewood\, OH\, 45322.\nPlease provide your name\, address\, and phone number for swap spaces
URL:https://modelarestorersclub.org/event/dayton-buckeye-model-a-ford-club-swap-meet/
LOCATION:Miami County Fairgrounds Duke-Lungard Building\, 650 N County Rd 25A\, Troy\, OH\, 45373\, United States
CATEGORIES:Swap Meets
ATTACH;FMTTYPE=image/png:https://modelarestorersclub.org/wp-content/uploads/2025/09/swap_orig.png
END:VEVENT
BEGIN:VEVENT
DTSTART;TZID=America/Los_Angeles:20251102T070000
DTEND;TZID=America/Los_Angeles:20251102T170000
DTSTAMP:20260419T153605
CREATED:20251026T151812Z
LAST-MODIFIED:20251026T160606Z
UID:10000004-1762066800-1762102800@modelarestorersclub.org
SUMMARY:All Car Show and Swap Meet
DESCRIPTION:Hosted by the San Fernando Valley Model A Club\nCAR SHOW & SWAP MEET … ALL CARS WELCOME …. !!\nCome show off your ride at our CAR SHOW — All cars welcome!! event\, where every car enthusiast can come together to admire and appreciate. \nLocation:\nRancho San Antonio\n21000 Plummer Street Los Angeles\, CA 91311
URL:https://modelarestorersclub.org/event/all-car-show-and-swap-meet/
LOCATION:Rancho San Antonio\, 21000 Plummer Street\, Los Angeles\, CA\, 91311\, United States
CATEGORIES:Swap Meets
ATTACH;FMTTYPE=image/jpeg:https://modelarestorersclub.org/wp-content/uploads/2025/10/car_show.jpg
ORGANIZER;CN="Jim Lank":MAILTO:jimclank@gmail.com
END:VEVENT
END:VCALENDAR