BEGIN:VCALENDAR
VERSION:2.0
PRODID:-//Ford Model A Restorers Club - ECPv6.15.18//NONSGML v1.0//EN
CALSCALE:GREGORIAN
METHOD:PUBLISH
X-ORIGINAL-URL:https://modelarestorersclub.org
X-WR-CALDESC:Events for Ford Model A Restorers Club
REFRESH-INTERVAL;VALUE=DURATION:PT1H
X-Robots-Tag:noindex
X-PUBLISHED-TTL:PT1H
BEGIN:VTIMEZONE
TZID:America/Chicago
BEGIN:DAYLIGHT
TZOFFSETFROM:-0600
TZOFFSETTO:-0500
TZNAME:CDT
DTSTART:20250309T080000
END:DAYLIGHT
BEGIN:STANDARD
TZOFFSETFROM:-0500
TZOFFSETTO:-0600
TZNAME:CST
DTSTART:20251102T070000
END:STANDARD
BEGIN:DAYLIGHT
TZOFFSETFROM:-0600
TZOFFSETTO:-0500
TZNAME:CDT
DTSTART:20260308T080000
END:DAYLIGHT
BEGIN:STANDARD
TZOFFSETFROM:-0500
TZOFFSETTO:-0600
TZNAME:CST
DTSTART:20261101T070000
END:STANDARD
BEGIN:DAYLIGHT
TZOFFSETFROM:-0600
TZOFFSETTO:-0500
TZNAME:CDT
DTSTART:20270314T080000
END:DAYLIGHT
BEGIN:STANDARD
TZOFFSETFROM:-0500
TZOFFSETTO:-0600
TZNAME:CST
DTSTART:20271107T070000
END:STANDARD
END:VTIMEZONE
BEGIN:VTIMEZONE
TZID:America/Los_Angeles
BEGIN:DAYLIGHT
TZOFFSETFROM:-0800
TZOFFSETTO:-0700
TZNAME:PDT
DTSTART:20250309T100000
END:DAYLIGHT
BEGIN:STANDARD
TZOFFSETFROM:-0700
TZOFFSETTO:-0800
TZNAME:PST
DTSTART:20251102T090000
END:STANDARD
BEGIN:DAYLIGHT
TZOFFSETFROM:-0800
TZOFFSETTO:-0700
TZNAME:PDT
DTSTART:20260308T100000
END:DAYLIGHT
BEGIN:STANDARD
TZOFFSETFROM:-0700
TZOFFSETTO:-0800
TZNAME:PST
DTSTART:20261101T090000
END:STANDARD
BEGIN:DAYLIGHT
TZOFFSETFROM:-0800
TZOFFSETTO:-0700
TZNAME:PDT
DTSTART:20270314T100000
END:DAYLIGHT
BEGIN:STANDARD
TZOFFSETFROM:-0700
TZOFFSETTO:-0800
TZNAME:PST
DTSTART:20271107T090000
END:STANDARD
END:VTIMEZONE
BEGIN:VTIMEZONE
TZID:America/New_York
BEGIN:DAYLIGHT
TZOFFSETFROM:-0500
TZOFFSETTO:-0400
TZNAME:EDT
DTSTART:20250309T070000
END:DAYLIGHT
BEGIN:STANDARD
TZOFFSETFROM:-0400
TZOFFSETTO:-0500
TZNAME:EST
DTSTART:20251102T060000
END:STANDARD
BEGIN:DAYLIGHT
TZOFFSETFROM:-0500
TZOFFSETTO:-0400
TZNAME:EDT
DTSTART:20260308T070000
END:DAYLIGHT
BEGIN:STANDARD
TZOFFSETFROM:-0400
TZOFFSETTO:-0500
TZNAME:EST
DTSTART:20261101T060000
END:STANDARD
BEGIN:DAYLIGHT
TZOFFSETFROM:-0500
TZOFFSETTO:-0400
TZNAME:EDT
DTSTART:20270314T070000
END:DAYLIGHT
BEGIN:STANDARD
TZOFFSETFROM:-0400
TZOFFSETTO:-0500
TZNAME:EST
DTSTART:20271107T060000
END:STANDARD
END:VTIMEZONE
BEGIN:VTIMEZONE
TZID:America/Kentucky/Louisville
BEGIN:DAYLIGHT
TZOFFSETFROM:-0500
TZOFFSETTO:-0400
TZNAME:EDT
DTSTART:20260308T070000
END:DAYLIGHT
BEGIN:STANDARD
TZOFFSETFROM:-0400
TZOFFSETTO:-0500
TZNAME:EST
DTSTART:20261101T060000
END:STANDARD
BEGIN:DAYLIGHT
TZOFFSETFROM:-0500
TZOFFSETTO:-0400
TZNAME:EDT
DTSTART:20270314T070000
END:DAYLIGHT
BEGIN:STANDARD
TZOFFSETFROM:-0400
TZOFFSETTO:-0500
TZNAME:EST
DTSTART:20271107T060000
END:STANDARD
BEGIN:DAYLIGHT
TZOFFSETFROM:-0500
TZOFFSETTO:-0400
TZNAME:EDT
DTSTART:20280312T070000
END:DAYLIGHT
BEGIN:STANDARD
TZOFFSETFROM:-0400
TZOFFSETTO:-0500
TZNAME:EST
DTSTART:20281105T060000
END:STANDARD
END:VTIMEZONE
BEGIN:VEVENT
DTSTART;TZID=America/Chicago:20260423T080000
DTEND;TZID=America/Chicago:20260425T170000
DTSTAMP:20260423T063732
CREATED:20260207T164421Z
LAST-MODIFIED:20260207T164421Z
UID:10000023-1776931200-1777136400@modelarestorersclub.org
SUMMARY:Pate Swap Meet
DESCRIPTION:Phone number: 817-396-5118 \nThe Pate Swap Meet now located at the Texas Motor Speedway (3545 Lone Star Cir\, Fort Worth\, TX 76177)\, started out as the South Central Swap Meet in 1972 when several car clubs in Texas decided that it was too much to keep going all the way up to Pennsylvania to Hershey when we could have a swap meet here in Texas. Among the starting members were Dr. Aggie Pate\, Russ Gruenwald\, Barney Calvert and others from the Gulf Coast Region AACA\, car club in Houston. \nThe “Pate” name is a tribute to Dr. Aggie Pate\, founder of the Pate Museum of Transportation near Cresson\, original home of this annual rite of spring. Pate\, president of the Texas Refinery Company that owned an employee recreation ranch southwest of Fort Worth\, housed his private automobile collection in the museum. The inaugural swap meet was held in a rough semi-circle under trees across from the museum with about 350 vendors. \nThe Pate Swap Meet Association now consists of the 14 largest vintage car clubs in Texas\, with the event serving the car restoration hobby and the collection of antique\, vintage\, and notable automobiles and hot rods. Pate Swap Meet is the largest event of its type in the Southwest and second largest in the United States. Operations of the Pate Swap Meet have been located at Texas Motor Speedway since 1998. \nVendor-wise\, the event is organized by street and block and space\, allowing visitors to readily locate folks eager to deal inventories of the following: New Old Stock (NOS) car parts\, Genuine Old Rusty car parts\, complete (and typically grease-covered) V8 engines\, front clips\, hoods\, grilles\, tires\, wheels\, tools\, steering wheels\, antique and reproduction signs and gas pumps\, license plates\, emblems\, manuals\, diecast collectibles\, assorted clothing and homemade Americana yard art. Motorcycles of various makes\, and their parts\, occupy their own space in the Pate landscape. \nJust think that from a humble 350 vendors and 500 spaces to now 2000 vendors and 9900 spaces in just 53 years is quite an accomplishment. We have increased out vendor spaces every year we have had the swap meet. We started out with just 4 car clubs putting on the meet to now 14 clubs of volunteers to keep this running. We have only missed one year since starting and that was 2020 and we all know what caused that.
URL:https://modelarestorersclub.org/event/pate-swap-meet/
LOCATION:Texas Motor Speedway\, Ft. Worth\, TX\, United States
CATEGORIES:Swap Meets
ATTACH;FMTTYPE=image/png:https://modelarestorersclub.org/wp-content/uploads/2026/02/Pate-Swap-Meet.png
ORGANIZER;CN="Pate Swap Meet":MAILTO:PateRegistrar@gmail.com
END:VEVENT
BEGIN:VEVENT
DTSTART;TZID=America/Los_Angeles:20260426T080000
DTEND;TZID=America/Los_Angeles:20260426T120000
DTSTAMP:20260423T063732
CREATED:20251026T153757Z
LAST-MODIFIED:20251026T153757Z
UID:10000006-1777190400-1777204800@modelarestorersclub.org
SUMMARY:62nd Annual Model A Swap Meet
DESCRIPTION:The Columbus Indiana MARC Region & MAFCA Chapter will hold its 62nd annual swap meet from 8am to 12pm on April 26\, 2026. Setup will be from 6AM-8AM\, building is not available Saturday evening.  This is one of the best local swap meets for Model A parts that you will find. It is held at the Bartholomew County 4-H Fairgrounds in Columbus\, Indiana. The fairgrounds are located at State Road 11 and road 200 S.  See the map for directions.​ \n\n\nOpen for unloading and setup at 6:00am. \n\n\nAdmission is $5 per person. \n\n\nSpaces are 10×10 and cost $10.   \n\n\nTables can be rented for $2 each. \n\n\n“For Sale” cars – $6 per space. Display area will be outside.​ \n\n\n \n\n\n\n\n\n\n\n\n\n\n\n\n\n\n\n\nWe will have hot food sold and pie for sale inside for breakfast and lunch.  \n\n\n\n\n\n\n\n\n\n\n\n\n\n\n\n\n\n\n\n\n\nThere is a Model A car display and “For Sale” area.
URL:https://modelarestorersclub.org/event/62nd-annual-model-a-swap-meet/
LOCATION:Bartholomew County 4-H Fairgrounds\, 700 W 200 S\, Columbus\, IN\, 47201\, United States
CATEGORIES:Swap Meets
ATTACH;FMTTYPE=image/jpeg:https://modelarestorersclub.org/wp-content/uploads/2025/10/columbus_Swap_meet.jpg
ORGANIZER;CN="John Prohaska":MAILTO:prohaska1069@yahoo.com
END:VEVENT
BEGIN:VEVENT
DTSTART;TZID=America/Los_Angeles:20260426T090000
DTEND;TZID=America/Los_Angeles:20260426T150000
DTSTAMP:20260423T063732
CREATED:20251112T232749Z
LAST-MODIFIED:20251122T161010Z
UID:10000010-1777194000-1777215600@modelarestorersclub.org
SUMMARY:The Annual Steve Ryan Model A/AA Show and Swap Meet - Trexlertown\, Pennsylvania
DESCRIPTION:Hosted by the Lehigh Valley Model A Club and the Goodwill Volunteer Fire Company \nNo registration or admission fee. \nPaved parking lot for the show and swap meet.  Stock or original Model A Ford and era equipment.  Vintage Fords from 1903-1942\, also welcomed.  No Hot Rods. \nContact:  NO Phone calls. \nQuestions / Swap RSVP email:  steveryanshowLVMAC@gmail.com
URL:https://modelarestorersclub.org/event/the-annual-steve-ryan-model-a-aa-show-and-swap-meet-trexlertown-pennsylvania/
LOCATION:Good Will Fire Company #1 of Trexlertown\, 7723 Hamilton Avenue\, Trexlertown\, PA\, 18087\, United States
CATEGORIES:Swap Meets
ATTACH;FMTTYPE=image/jpeg:https://modelarestorersclub.org/wp-content/uploads/2025/11/ryan.jpg
ORGANIZER;CN="Steve Ryan Show RSVP":MAILTO:steveryanshowLVMAC@gmail.com
END:VEVENT
BEGIN:VEVENT
DTSTART;TZID=America/Chicago:20260426T090000
DTEND;TZID=America/Chicago:20260426T150000
DTSTAMP:20260423T063732
CREATED:20260212T221445Z
LAST-MODIFIED:20260212T221445Z
UID:10000024-1777194000-1777215600@modelarestorersclub.org
SUMMARY:Steve Ryan Model A /AA Show and Swap
DESCRIPTION:
URL:https://modelarestorersclub.org/event/steve-ryan-model-a-aa-show-and-swap/
LOCATION:Steve Ryan Swap\, 7723 Hamilton Blvd\, Breinigsville\, PA\, 18031\, United States
CATEGORIES:Car Show,Swap Meets
END:VEVENT
BEGIN:VEVENT
DTSTART;TZID=America/Chicago:20260613T090000
DTEND;TZID=America/Chicago:20260613T150000
DTSTAMP:20260423T063732
CREATED:20260121T220953Z
LAST-MODIFIED:20260121T220953Z
UID:10000019-1781341200-1781362800@modelarestorersclub.org
SUMMARY:3rd Annual Starved Rock Pre War Car Show and Swap Meet
DESCRIPTION:All vehicles built before 1942 Sponsored by the Starved Rock Model A Club Car show and Swap Meet \nSwap meet 7AM Car show 9 am to 3 pm $10 donation per vehicle participant or spectator. \nDash Plaques for first 75 cars \nTrophies for 1st 2nd and 3rd People’s Choice and Oldest. Everyone votes for their favorite car. \nRegistration in Ford Garage. \nFree rides in an Antique Car. \nVendor information call John Krug 815-228-5898 \nShow information call John Kehoe 815-830-4704 \nNo pets\, No Alcohol not responsible for accidents. \nRusty Halo Vendors Rain or shine
URL:https://modelarestorersclub.org/event/3rd-annual-starved-rock-pre-war-car-show-and-swap-meet/
LOCATION:At the residence of J\, 3277 E 18th Rd\, Ottawa\, IL\, 61350\, United States
CATEGORIES:Car Show,Swap Meets
ORGANIZER;CN="John Krug":MAILTO:johnkrug@gmail.com
END:VEVENT
BEGIN:VEVENT
DTSTART;TZID=America/New_York:20260821T080000
DTEND;TZID=America/New_York:20260822T140000
DTSTAMP:20260423T063732
CREATED:20260220T175141Z
LAST-MODIFIED:20260306T013136Z
UID:10000025-1787299200-1787407200@modelarestorersclub.org
SUMMARY:Shade Tree A’s – 5th Annual Model “A” Swap Meet
DESCRIPTION:5th Annual Model “A” Swap Meet – Hosted by the Shade Tree A’s Region. \n1818 Augusta Hwy\, Thomson\, GA 30824. \nThere is no Parking\, Admission\, or Vendor fee for this swap meet. \nCome enjoy your day with fellow Model A enthusiasts. \nContact: Andrew Morse 706-834-2342\, 4morses@comcast.net.
URL:https://modelarestorersclub.org/event/shade-tree-as-5th-annual-model-a-swap-meet/
LOCATION:Augusta Swap Meet\, 1818 Augusta Hwy\, Thomson\, GA\, 30824\, United States
CATEGORIES:Swap Meets
ATTACH;FMTTYPE=image/png:https://modelarestorersclub.org/wp-content/uploads/2026/02/Shade_Tree.png
ORGANIZER;CN="Andrew Morse":MAILTO:4morses@comcast.net
END:VEVENT
BEGIN:VEVENT
DTSTART;VALUE=DATE:20260918
DTEND;VALUE=DATE:20260920
DTSTAMP:20260423T063732
CREATED:20251026T160306Z
LAST-MODIFIED:20251213T131656Z
UID:10000009-1789689600-1789862399@modelarestorersclub.org
SUMMARY:Model A Days at the Gilmore Museum
DESCRIPTION:Two-Day Swap Meet\, Car Corral\, Fashion and Technical Seminars and more!
URL:https://modelarestorersclub.org/event/model-a-days-at-the-gilmore-museum/
LOCATION:The Gilmore Car Museum\, 6865 W. Hickory Road\, Hickory Corners\, MI\, 49060\, United States
CATEGORIES:MARC Sponsored Events,Swap Meets
ATTACH;FMTTYPE=image/jpeg:https://modelarestorersclub.org/wp-content/uploads/2025/10/gilmore1.jpg
END:VEVENT
BEGIN:VEVENT
DTSTART;TZID=America/Chicago:20261101T080000
DTEND;TZID=America/Chicago:20261101T130000
DTSTAMP:20260423T063732
CREATED:20260315T204500Z
LAST-MODIFIED:20260315T204500Z
UID:10000034-1793520000-1793538000@modelarestorersclub.org
SUMMARY:Dayton Buckeye Model A Ford Club Swap Meet
DESCRIPTION:Annual SWAP MEET\, Sunday November 1st\, 2026. 8am – 1pm\, Miami County Fairgrounds Duke-Lungard Building\, Troy\, OH. 17 miles north of I-75 from I-70. Exit 78—go 3 miles south on Co Rd 25A to the Fairgrounds. Sponsored by the Dayton-Buckeye Model A Ford Club. All Makes\, Models and Parts Welcome. Concession Stand\, 50/50\, & Car Corral. Sunday Vendor setup from 6am to 8am. For Swap Meet spaces contact Charles Powell\, 13700 SR 56\, Mechanicsburg\, OH\, 45044 (740) 506-5290. 10 x 10 Inside spaces $20 each; Outside spaces $20 each. Make check payable to Dayton Buckeye Model A Ford Club PO Box 322\, Englewood\, OH\, 45322. Please provide your name\, address\, and phone number for swap spaces. $4.00 donation at the door requested.
URL:https://modelarestorersclub.org/event/dayton-buckeye-model-a-ford-club-swap-meet-2/
LOCATION:Miami County Fairgrounds Duke-Lungard Building\, 650 N County Rd 25A\, Troy\, OH\, 45373\, United States
CATEGORIES:Swap Meets
ATTACH;FMTTYPE=image/jpeg:https://modelarestorersclub.org/wp-content/uploads/2026/03/Dayton-Buckeye-Swap-Meet-Flyer-2026.jpg
ORGANIZER;CN="Charles Powell":MAILTO:powellmusic@sbcglobal.net
END:VEVENT
BEGIN:VEVENT
DTSTART;TZID=America/Kentucky/Louisville:20270109T080000
DTEND;TZID=America/Kentucky/Louisville:20270109T120000
DTSTAMP:20260423T063732
CREATED:20260414T191208Z
LAST-MODIFIED:20260414T200413Z
UID:10000041-1799481600-1799496000@modelarestorersclub.org
SUMMARY:42nd Annual Winter Swap Meet – Shepherdsville Kentucky
DESCRIPTION:January 9th\, 2027 – 42nd Annual Winter Model A Swap Meet. Shepherdsville\, Kentucky Hosted by The Falls City Region Model A Ford Club. (10 miles south of Louisville).\nOVER 50 vendor spaces!\nSpecializing in MODEL “A” FORD Parts.\nHeld at Paroquet Springs Conference Center located at 395 Paroquet Springs Drive Shepherdsville\, KY 40165.\nAdmission $5.00 children under 12 free. 10 X 12 Vendor Spaces $15.00\nSet up starts at 6am; Doors Open at 8 A.M. to approximately 1:00pm\nRegistration Contact: Emeric Howell 8800 Gentry Lane Louisville\, Ky. 40291\nemail: emerichowell@gmail.com or questions call or text Emeric at (502) 550-2797 (Please include your name in the text)\nPLEASE check our website www.kymodela.org for the latest info or changes.
URL:https://modelarestorersclub.org/event/42nd-annual-winter-swap-meet-shepherdsville-kentucky/
LOCATION:Paroquet Springs Conference Center\, 395 Paroquet Springs Drive\, Shepherdsville\, KY\, 40165\, United States
CATEGORIES:Swap Meets
ATTACH;FMTTYPE=image/jpeg:https://modelarestorersclub.org/wp-content/uploads/2026/04/Deluxe-Phaeton-better-res.jpg
END:VEVENT
END:VCALENDAR