BEGIN:VCALENDAR
VERSION:2.0
PRODID:-//Ford Model A Restorers Club - ECPv6.15.18//NONSGML v1.0//EN
CALSCALE:GREGORIAN
METHOD:PUBLISH
X-WR-CALNAME:Ford Model A Restorers Club
X-ORIGINAL-URL:https://modelarestorersclub.org
X-WR-CALDESC:Events for Ford Model A Restorers Club
REFRESH-INTERVAL;VALUE=DURATION:PT1H
X-Robots-Tag:noindex
X-PUBLISHED-TTL:PT1H
BEGIN:VTIMEZONE
TZID:America/Chicago
BEGIN:DAYLIGHT
TZOFFSETFROM:-0600
TZOFFSETTO:-0500
TZNAME:CDT
DTSTART:20250309T080000
END:DAYLIGHT
BEGIN:STANDARD
TZOFFSETFROM:-0500
TZOFFSETTO:-0600
TZNAME:CST
DTSTART:20251102T070000
END:STANDARD
BEGIN:DAYLIGHT
TZOFFSETFROM:-0600
TZOFFSETTO:-0500
TZNAME:CDT
DTSTART:20260308T080000
END:DAYLIGHT
BEGIN:STANDARD
TZOFFSETFROM:-0500
TZOFFSETTO:-0600
TZNAME:CST
DTSTART:20261101T070000
END:STANDARD
BEGIN:DAYLIGHT
TZOFFSETFROM:-0600
TZOFFSETTO:-0500
TZNAME:CDT
DTSTART:20270314T080000
END:DAYLIGHT
BEGIN:STANDARD
TZOFFSETFROM:-0500
TZOFFSETTO:-0600
TZNAME:CST
DTSTART:20271107T070000
END:STANDARD
END:VTIMEZONE
BEGIN:VTIMEZONE
TZID:America/Detroit
BEGIN:DAYLIGHT
TZOFFSETFROM:-0500
TZOFFSETTO:-0400
TZNAME:EDT
DTSTART:20250309T070000
END:DAYLIGHT
BEGIN:STANDARD
TZOFFSETFROM:-0400
TZOFFSETTO:-0500
TZNAME:EST
DTSTART:20251102T060000
END:STANDARD
BEGIN:DAYLIGHT
TZOFFSETFROM:-0500
TZOFFSETTO:-0400
TZNAME:EDT
DTSTART:20260308T070000
END:DAYLIGHT
BEGIN:STANDARD
TZOFFSETFROM:-0400
TZOFFSETTO:-0500
TZNAME:EST
DTSTART:20261101T060000
END:STANDARD
BEGIN:DAYLIGHT
TZOFFSETFROM:-0500
TZOFFSETTO:-0400
TZNAME:EDT
DTSTART:20270314T070000
END:DAYLIGHT
BEGIN:STANDARD
TZOFFSETFROM:-0400
TZOFFSETTO:-0500
TZNAME:EST
DTSTART:20271107T060000
END:STANDARD
END:VTIMEZONE
BEGIN:VEVENT
DTSTART;TZID=America/Chicago:20260426T090000
DTEND;TZID=America/Chicago:20260426T150000
DTSTAMP:20260419T032047
CREATED:20260212T221445Z
LAST-MODIFIED:20260212T221445Z
UID:10000024-1777194000-1777215600@modelarestorersclub.org
SUMMARY:Steve Ryan Model A /AA Show and Swap
DESCRIPTION:
URL:https://modelarestorersclub.org/event/steve-ryan-model-a-aa-show-and-swap/
LOCATION:Steve Ryan Swap\, 7723 Hamilton Blvd\, Breinigsville\, PA\, 18031\, United States
CATEGORIES:Car Show,Swap Meets
END:VEVENT
BEGIN:VEVENT
DTSTART;TZID=America/Chicago:20260613T090000
DTEND;TZID=America/Chicago:20260613T150000
DTSTAMP:20260419T032047
CREATED:20260121T220953Z
LAST-MODIFIED:20260121T220953Z
UID:10000019-1781341200-1781362800@modelarestorersclub.org
SUMMARY:3rd Annual Starved Rock Pre War Car Show and Swap Meet
DESCRIPTION:All vehicles built before 1942 Sponsored by the Starved Rock Model A Club Car show and Swap Meet \nSwap meet 7AM Car show 9 am to 3 pm $10 donation per vehicle participant or spectator. \nDash Plaques for first 75 cars \nTrophies for 1st 2nd and 3rd People’s Choice and Oldest. Everyone votes for their favorite car. \nRegistration in Ford Garage. \nFree rides in an Antique Car. \nVendor information call John Krug 815-228-5898 \nShow information call John Kehoe 815-830-4704 \nNo pets\, No Alcohol not responsible for accidents. \nRusty Halo Vendors Rain or shine
URL:https://modelarestorersclub.org/event/3rd-annual-starved-rock-pre-war-car-show-and-swap-meet/
LOCATION:At the residence of J\, 3277 E 18th Rd\, Ottawa\, IL\, 61350\, United States
CATEGORIES:Car Show,Swap Meets
ORGANIZER;CN="John Krug":MAILTO:johnkrug@gmail.com
END:VEVENT
BEGIN:VEVENT
DTSTART;TZID=America/Detroit:20260711T090000
DTEND;TZID=America/Detroit:20260711T160000
DTSTAMP:20260419T032047
CREATED:20260116T170744Z
LAST-MODIFIED:20260312T200808Z
UID:10000016-1783760400-1783785600@modelarestorersclub.org
SUMMARY:15th Annual Vintage Car Show at the Standish Historical Depot - MI
DESCRIPTION:The Standish Historical Depot Welcome Center invites ALL original/restored cars and trucks 1934 and older (no Hot Rods please) to its 15th Annual Car Show. Vehicles pre-registered before July 3\, 2026 will be registered for $10.00. Registrations received after July 3\, 2026 will be $15.00. \nThe 15th Annual Vintage Car Show at the Standish Historical Depot is a classic-era car event held in Standish\, Michigan\, focused on pre-1934 vehicles—a natural fit for Model A and Model T enthusiasts. \nHere are the key details. \nLocation: Standish Historical Depot\n107 N. Main St.\, Standish\, Michigan \nDate: Saturday\, July 11\, 2026\nTime: 9:00 AM – 4:00 PM (rain or shine) \nVehicle Eligibility\n\nOriginal or restored cars and trucks from 1934 or earlier\nIncludes Model A\, Model T\, and other early vintage vehicles\nNo hot rods or kit cars\n\nRegistration\n\n$10 pre-registration (before July 3)\n$15 day-of-show registration\n\nWhat Participants Receive\n\nCoffee & donuts in the morning\nPicnic lunch and ice-cream social (for two with preregistration)\nParticipation plaques for the first 50 entries\n\nJudging & Awards\nClasses include: \n\nModel A Car\nModel A Commercial\nModel T Car\nModel T Commercial\nNon-Ford\nSpeedster (1900–1931)\nBest of Show (1900–1931) and Best of Show (1932–1934)\n\nExtras\n\nEra dress encouraged (period hats\, clothing\, etc.)\nYouth judging sponsored by Hagerty\nEvent is free for spectators\n\nContact\nCurt Hillman (Organizer)\n📞 989-812-8954 / 989-295-0856 \n3430 Pine Ridge Ct.\, Standish\, MI 48658
URL:https://modelarestorersclub.org/event/15th-annual-vintage-car-show-at-the-standish-historical-depot-mi/
LOCATION:Standish Historical Depot\, 107 N Main St\, Standish\, MI\, 48658\, United States
CATEGORIES:Car Show,Regional Events
ATTACH;FMTTYPE=image/jpeg:https://modelarestorersclub.org/wp-content/uploads/2026/01/Screenshot-2026-01-14-202712.jpg
ORGANIZER;CN="Curt Hillman":MAILTO:info@standishdepot.org
END:VEVENT
BEGIN:VEVENT
DTSTART;VALUE=DATE:20260822
DTEND;VALUE=DATE:20260823
DTSTAMP:20260419T032047
CREATED:20260317T163302Z
LAST-MODIFIED:20260317T163359Z
UID:10000038-1787356800-1787443199@modelarestorersclub.org
SUMMARY:“Eliot Ness Day” Celebrating 100 years since Eliot Ness - Coudersport\, PA
DESCRIPTION:August 22\, 2026. Coudersport\, PA. Lakeshore Model A Ford Club invites other Model A Clubs to join us for a weekend in Coudersport\, PA for an event at the Eliot Ness Museum’s “Eliot Ness Day” Celebrating 100 years since Eliot Ness joined the U.S. Treasury Department’s Prohibition Bureau. Contact: Pat Lloyd. Phone 585-509-9044. Email pat@lloydmechanical.com \n\n\nMuseum website: eliotnessmuseum.org
URL:https://modelarestorersclub.org/event/eliot-ness-day-celebrating-100-years-since-eliot-ness-coudersport-pa/
CATEGORIES:Car Show
END:VEVENT
BEGIN:VEVENT
DTSTART;VALUE=DATE:20260921
DTEND;VALUE=DATE:20260926
DTSTAMP:20260419T032047
CREATED:20260317T163527Z
LAST-MODIFIED:20260317T163527Z
UID:10000039-1789948800-1790380799@modelarestorersclub.org
SUMMARY:GAMARAI 2026 - Iowa
DESCRIPTION:September 21-25\, 2026. Iowa. GAMARAI 2026 hosted by Central Iowa Model A Club. We will travel to Iowa Great Lakes region with stops in and around Lake Okoboji a Big Spirit Lake. We will visit Spencer\, Arnolds Park\, Okoboji\, Spirit Lake\, West Bend\, and a number of Iowa’s great little towns. You might even see the administration building of the University of Okoboji. This year’s tour includes stops at a collection of different venues in the lakes area. One of the highlights is a stop at the Shrine of the Grotto of the Redemption in West Bend. Other stops will be listed at the Central Iowa Model A Ford Club website www.cimafc.com as they become available. You can contact us at gamarai@cimafc.org for updated information.
URL:https://modelarestorersclub.org/event/gamarai-2026-iowa/
CATEGORIES:Car Show
END:VEVENT
END:VCALENDAR