BEGIN:VCALENDAR
VERSION:2.0
PRODID:-//Ford Model A Restorers Club - ECPv6.15.18//NONSGML v1.0//EN
CALSCALE:GREGORIAN
METHOD:PUBLISH
X-ORIGINAL-URL:https://modelarestorersclub.org
X-WR-CALDESC:Events for Ford Model A Restorers Club
REFRESH-INTERVAL;VALUE=DURATION:PT1H
X-Robots-Tag:noindex
X-PUBLISHED-TTL:PT1H
BEGIN:VTIMEZONE
TZID:America/Chicago
BEGIN:DAYLIGHT
TZOFFSETFROM:-0600
TZOFFSETTO:-0500
TZNAME:CDT
DTSTART:20250309T080000
END:DAYLIGHT
BEGIN:STANDARD
TZOFFSETFROM:-0500
TZOFFSETTO:-0600
TZNAME:CST
DTSTART:20251102T070000
END:STANDARD
BEGIN:DAYLIGHT
TZOFFSETFROM:-0600
TZOFFSETTO:-0500
TZNAME:CDT
DTSTART:20260308T080000
END:DAYLIGHT
BEGIN:STANDARD
TZOFFSETFROM:-0500
TZOFFSETTO:-0600
TZNAME:CST
DTSTART:20261101T070000
END:STANDARD
BEGIN:DAYLIGHT
TZOFFSETFROM:-0600
TZOFFSETTO:-0500
TZNAME:CDT
DTSTART:20270314T080000
END:DAYLIGHT
BEGIN:STANDARD
TZOFFSETFROM:-0500
TZOFFSETTO:-0600
TZNAME:CST
DTSTART:20271107T070000
END:STANDARD
END:VTIMEZONE
BEGIN:VEVENT
DTSTART;VALUE=DATE:20260718
DTEND;VALUE=DATE:20260719
DTSTAMP:20260419T115757
CREATED:20260314T182303Z
LAST-MODIFIED:20260314T182303Z
UID:10000033-1784332800-1784419199@modelarestorersclub.org
SUMMARY:72nd Annual Long Beach Model T Club Swap Meet - Long Beach\, CA
DESCRIPTION:Since 1955\, the oldest and best old car and old Ford swap meet in the West! Spaces are available\, 20ft wide by 16ft deep $40 each or 3 for $100. $50 each day of event. \nOpen to all makes and models\, automotive and hobby related items only. 5000 Lew Davis St. Long Beach City College Veterans Stadium. Admission $5\, free parking. \nNO DOGS-NO GUNS-NO WEAPONS Call Jeff Hood 562-597-5936 for flyers and registration forms at lbmtc.com \nClick here for Vendor Registration Form
URL:https://modelarestorersclub.org/event/72nd-annual-long-beach-model-t-club-swap-meet-long-beach-ca/
LOCATION:Long Beach City College Veterans Stadium\, 5000 Lew Davis St\, Long Beach\, CA\, 90808\, United States
ATTACH;FMTTYPE=image/jpeg:https://modelarestorersclub.org/wp-content/uploads/2026/03/2026-LBMTC-Swap-Meet-Flyer-copy.jpg
END:VEVENT
END:VCALENDAR