BEGIN:VCALENDAR
VERSION:2.0
PRODID:-//Ford Model A Restorers Club - ECPv6.15.18//NONSGML v1.0//EN
CALSCALE:GREGORIAN
METHOD:PUBLISH
X-ORIGINAL-URL:https://modelarestorersclub.org
X-WR-CALDESC:Events for Ford Model A Restorers Club
REFRESH-INTERVAL;VALUE=DURATION:PT1H
X-Robots-Tag:noindex
X-PUBLISHED-TTL:PT1H
BEGIN:VTIMEZONE
TZID:America/Los_Angeles
BEGIN:DAYLIGHT
TZOFFSETFROM:-0800
TZOFFSETTO:-0700
TZNAME:PDT
DTSTART:20250309T100000
END:DAYLIGHT
BEGIN:STANDARD
TZOFFSETFROM:-0700
TZOFFSETTO:-0800
TZNAME:PST
DTSTART:20251102T090000
END:STANDARD
BEGIN:DAYLIGHT
TZOFFSETFROM:-0800
TZOFFSETTO:-0700
TZNAME:PDT
DTSTART:20260308T100000
END:DAYLIGHT
BEGIN:STANDARD
TZOFFSETFROM:-0700
TZOFFSETTO:-0800
TZNAME:PST
DTSTART:20261101T090000
END:STANDARD
BEGIN:DAYLIGHT
TZOFFSETFROM:-0800
TZOFFSETTO:-0700
TZNAME:PDT
DTSTART:20270314T100000
END:DAYLIGHT
BEGIN:STANDARD
TZOFFSETFROM:-0700
TZOFFSETTO:-0800
TZNAME:PST
DTSTART:20271107T090000
END:STANDARD
END:VTIMEZONE
BEGIN:VTIMEZONE
TZID:America/Chicago
BEGIN:DAYLIGHT
TZOFFSETFROM:-0600
TZOFFSETTO:-0500
TZNAME:CDT
DTSTART:20250309T080000
END:DAYLIGHT
BEGIN:STANDARD
TZOFFSETFROM:-0500
TZOFFSETTO:-0600
TZNAME:CST
DTSTART:20251102T070000
END:STANDARD
BEGIN:DAYLIGHT
TZOFFSETFROM:-0600
TZOFFSETTO:-0500
TZNAME:CDT
DTSTART:20260308T080000
END:DAYLIGHT
BEGIN:STANDARD
TZOFFSETFROM:-0500
TZOFFSETTO:-0600
TZNAME:CST
DTSTART:20261101T070000
END:STANDARD
BEGIN:DAYLIGHT
TZOFFSETFROM:-0600
TZOFFSETTO:-0500
TZNAME:CDT
DTSTART:20270314T080000
END:DAYLIGHT
BEGIN:STANDARD
TZOFFSETFROM:-0500
TZOFFSETTO:-0600
TZNAME:CST
DTSTART:20271107T070000
END:STANDARD
END:VTIMEZONE
BEGIN:VEVENT
DTSTART;VALUE=DATE:20260712
DTEND;VALUE=DATE:20260717
DTSTAMP:20260421T054129
CREATED:20251026T155843Z
LAST-MODIFIED:20260328T163039Z
UID:10000008-1783814400-1784246399@modelarestorersclub.org
SUMMARY:The 2026 MARC National Meet
DESCRIPTION:Come enjoy the magnificence of French Lick\, Indiana AND enjoy “Historic Hoosier Hospitality” \nContact Rex Hinkle with questions                                    Volunteers Needed! Use this link to Sign Up.  \nOnline Registration Form\nPrintable Registration Form\nSchedule of Events  \nFrench Lick Tourism Video \n     Click The Image For Full Details 
URL:https://modelarestorersclub.org/event/the-2026-marc-national-meet/
LOCATION:The French Lick Resort\, 8670 West State Road 56\, French Lick\, IN\, 47432\, United States
CATEGORIES:MARC National Meet,MARC Sponsored Events
ATTACH;FMTTYPE=image/png:https://modelarestorersclub.org/wp-content/uploads/2026/02/FL2-e1772219287780.png
ORGANIZER;CN="Rex Hinkle":MAILTO:rex.hinkle@cookgroup.com
END:VEVENT
BEGIN:VEVENT
DTSTART;TZID=America/Chicago:20260713T080000
DTEND;TZID=America/Chicago:20260713T170000
DTSTAMP:20260421T054129
CREATED:20260227T190603Z
LAST-MODIFIED:20260310T164252Z
UID:10000028-1783929600-1783962000@modelarestorersclub.org
SUMMARY:French Lick Monday Schedule
DESCRIPTION:MONDAY\, July 13\, 2026\n\n\n\n\nRegistration\n8:30 am – 5:00 pm\n\n\nSweepstakes/Event Merchandise\n8:30 am – 5:00 pm\n\n\nSwap Meet\n8:00 am – 5:00 pm\n\n\nMARC Board of Directors Meeting\n8:00 am – 5:00 pm\n\n\nRepair Tent & Car Wash & Repair Seminars\n8:00 am – 5:00 pm\n\n\nFashion Seminar “Puttin on the Ritz in French Lick”\n9:00 am – 11:30 am\n\n\nFashion Seminar Swap Meet\n11:30 am-12:30 pm\n\n\nHost Seminar: Horns by Steve Smith\n9:00 am – 10:30 am\n\n\nHistoric Trolley Tour of both towns (French Lick & West Baden)\n9:30 am – 10:45 am\n\n\nHistoric Trolley Tour of both towns (French Lick & West Baden)\n11:00 am-12:15 pm\n\n\nHospitality Room Open\n10:00 am – 4:00 pm\n\n\nJSC Seminar: Introduction to Revision 5 of the Judging Standards and Restoration Guidelines by Stan Sorrels\n10:30 am-12:00 pm\n\n\nHost Seminar: The Burtz Block\, Q&A from builders and drivers by Terry Burtz\n12:00 pm – 1:30 pm\n\n\nYouth Events Day – Chassis Disassembly and Assembly\, games\, car wash\, water guns & More!!\n9:00 am – 4:00 pm\n\n\nAA Sig Meeting\n1:00 pm – 2:30 pm\n\n\nHost Seminar: The history & Introduction of the Ford Model A Dec. 2nd 1927 by John Grossheim\n1:00 pm – 2:30 pm\n\n\n400A SIG Meeting.  Room to be announced later\n2:45 pm-4:00pm\n\n\nTour of French Lick Hotel by Indiana Landmarks (Walking Tour)\n3:00 pm – 4:00 pm\n\n\nWelcome Party Cocktails – Cash Bar\n6:00 pm – 7:00 pm\n\n\nWelcome Party Buffet Dinner\n7:00 pm – 10:00 pm\n\n\nYouth Welcome Party – Bowling and Arcade\n6:30 pm – 10:00 pm
URL:https://modelarestorersclub.org/event/french-lick-monday-schedule/
LOCATION:The French Lick Resort\, 8670 West State Road 56\, French Lick\, IN\, 47432\, United States
CATEGORIES:MARC National Meet,MARC Sponsored Events,Regional Events
ATTACH;FMTTYPE=image/png:https://modelarestorersclub.org/wp-content/uploads/2026/02/FL2-e1772219287780.png
END:VEVENT
END:VCALENDAR