BEGIN:VCALENDAR
VERSION:2.0
PRODID:-//Ford Model A Restorers Club - ECPv6.15.18//NONSGML v1.0//EN
CALSCALE:GREGORIAN
METHOD:PUBLISH
X-WR-CALNAME:Ford Model A Restorers Club
X-ORIGINAL-URL:https://modelarestorersclub.org
X-WR-CALDESC:Events for Ford Model A Restorers Club
REFRESH-INTERVAL;VALUE=DURATION:PT1H
X-Robots-Tag:noindex
X-PUBLISHED-TTL:PT1H
BEGIN:VTIMEZONE
TZID:America/Chicago
BEGIN:DAYLIGHT
TZOFFSETFROM:-0600
TZOFFSETTO:-0500
TZNAME:CDT
DTSTART:20250309T080000
END:DAYLIGHT
BEGIN:STANDARD
TZOFFSETFROM:-0500
TZOFFSETTO:-0600
TZNAME:CST
DTSTART:20251102T070000
END:STANDARD
BEGIN:DAYLIGHT
TZOFFSETFROM:-0600
TZOFFSETTO:-0500
TZNAME:CDT
DTSTART:20260308T080000
END:DAYLIGHT
BEGIN:STANDARD
TZOFFSETFROM:-0500
TZOFFSETTO:-0600
TZNAME:CST
DTSTART:20261101T070000
END:STANDARD
BEGIN:DAYLIGHT
TZOFFSETFROM:-0600
TZOFFSETTO:-0500
TZNAME:CDT
DTSTART:20270314T080000
END:DAYLIGHT
BEGIN:STANDARD
TZOFFSETFROM:-0500
TZOFFSETTO:-0600
TZNAME:CST
DTSTART:20271107T070000
END:STANDARD
END:VTIMEZONE
BEGIN:VEVENT
DTSTART;VALUE=DATE:20260621
DTEND;VALUE=DATE:20260622
DTSTAMP:20260419T104738
CREATED:20260316T165416Z
LAST-MODIFIED:20260316T165416Z
UID:10000036-1782000000-1782086399@modelarestorersclub.org
SUMMARY:51st Sully Antique Car Show!
DESCRIPTION:The George Washington Chapter\, Inc. Model A Ford Club and the Fairfax County Park Authority will jointly sponsor the 51st Sully Antique Car Show on Father’s Day\, June 21\, 2026\, at the Sully Historic Site\, 3650 Historic Sully Way\, Chantilly\, VA.\nBring your Model A Ford Hot Rod or antique vehicle (2001 or earlier) to show (must pre-register by June 17) and win a trophy.  There are thirty show classes with 1st\, 2nd\, and 3rd place trophies\, and a trophy for Best in Show and a Sully Staff choice.  Or\, just bring your family to enjoy the show where you will see approximately 350 – 400 classic and antique cars; special displays including Hit ‘n Miss engines and a “take-apart Model T Ford”; food vendors; a kids’ tent with free coloring books; live music; and a Century Class Display of 100-year-old cars.  Historic grounds information session included with admission (weather permitting)\, which online is $12 for adults\, $10 for seniors and $8 for children.  Trophies will be awarded at 3:00 pm.\n\nSHOW CARS MUST BE PRE-REGISTERED BY JUNE 17!\n\nSee GWCModelA.com mid-April for registration information.
URL:https://modelarestorersclub.org/event/51st-sully-antique-car-show/
LOCATION:Sully Historic Site\, 3650 Historic Sully Way\, Chantilly\, VA\, United States
ATTACH;FMTTYPE=image/jpeg:https://modelarestorersclub.org/wp-content/uploads/2026/03/Sully-Show.jpg
END:VEVENT
END:VCALENDAR